BEGIN:VCALENDAR
VERSION:2.0
PRODID:-//Lake Cootharaba Sailing Club - ECPv5.16.1//NONSGML v1.0//EN
CALSCALE:GREGORIAN
METHOD:PUBLISH
X-WR-CALNAME:Lake Cootharaba Sailing Club
X-ORIGINAL-URL:https://lcsc.org.au
X-WR-CALDESC:Events for Lake Cootharaba Sailing Club
BEGIN:VTIMEZONE
TZID:Australia/Melbourne
BEGIN:STANDARD
TZOFFSETFROM:+1100
TZOFFSETTO:+1000
TZNAME:AEST
DTSTART:20260404T160000
END:STANDARD
BEGIN:DAYLIGHT
TZOFFSETFROM:+1000
TZOFFSETTO:+1100
TZNAME:AEDT
DTSTART:20261003T160000
END:DAYLIGHT
END:VTIMEZONE
BEGIN:VEVENT
DTSTART;VALUE=DATE:20260517
DTEND;VALUE=DATE:20260629
DTSTAMP:20260424T172743
CREATED:20260423T042822Z
LAST-MODIFIED:20260423T042822Z
UID:14486-1778976000-1782691199@lcsc.org.au
SUMMARY:2026 Winter Series
DESCRIPTION:[vc_row][vc_column][vc_column_text] \n2026 Winter Series\nThe series is a stand-alone event run over 4 Sundays \n17th May 2026 \n31st May 2026 \n14th June2026 \n28th June 2026 \nTwo races are scheduled for each day. Back-to-Back.\n1st warning will not be made before 12-30pm\nUp to Three races may be sailed on any one day at the discretion of the Course Race Officer.\nBut the series will not be more than one race ahead of the schedule. \n[/vc_column_text][/vc_column][/vc_row][vc_row][vc_column][vc_btn title=”Notice of Race with Sailing Instructions” style=”3d” color=”primary” size=”lg” align=”center” i_align=”right” i_type=”typicons” i_icon_typicons=”typcn typcn-arrow-down-thick” add_icon=”true” link=”url:https%3A%2F%2Flcsc.org.au%2Fwp-content%2Fuploads%2F2026%2F04%2FWinter-series-2026-NOR-SIs.pdf||target:%20_blank|”][/vc_column][/vc_row][vc_row][vc_column][vc_btn title=”Enter” color=”success” size=”lg” align=”center” i_align=”right” i_type=”typicons” i_icon_typicons=”typcn typcn-arrow-forward” add_icon=”true” link=”url:https%3A%2F%2Fwww.revolutionise.com.au%2Flcsc%2Fevents%2F355370||target:%20_blank|”][/vc_column][/vc_row]
URL:https://lcsc.org.au/event/2026-winter-series/
ATTACH;FMTTYPE=image/jpeg:https://lcsc.org.au/wp-content/uploads/2022/09/IMG_8386.jpg
END:VEVENT
END:VCALENDAR