BEGIN:VCALENDAR
VERSION:2.0
PRODID:-//Lake Cootharaba Sailing Club - ECPv5.16.1//NONSGML v1.0//EN
CALSCALE:GREGORIAN
METHOD:PUBLISH
X-WR-CALNAME:Lake Cootharaba Sailing Club
X-ORIGINAL-URL:https://lcsc.org.au
X-WR-CALDESC:Events for Lake Cootharaba Sailing Club
BEGIN:VTIMEZONE
TZID:Australia/Melbourne
BEGIN:STANDARD
TZOFFSETFROM:+1100
TZOFFSETTO:+1000
TZNAME:AEST
DTSTART:20250405T160000
END:STANDARD
BEGIN:DAYLIGHT
TZOFFSETFROM:+1000
TZOFFSETTO:+1100
TZNAME:AEDT
DTSTART:20251004T160000
END:DAYLIGHT
END:VTIMEZONE
BEGIN:VEVENT
DTSTART;VALUE=DATE:20250323
DTEND;VALUE=DATE:20250324
DTSTAMP:20260421T181119
CREATED:20250318T074604Z
LAST-MODIFIED:20250318T074723Z
UID:13254-1742688000-1742774399@lcsc.org.au
SUMMARY:Club Racing (Autumn Series) and Learn to Sail
DESCRIPTION:[vc_row][vc_column][vc_column_text]0900  Learn to Sail\n1100   Autumn Series Race 7\n1330   Autumn Series Race 8[/vc_column_text][/vc_column][/vc_row][vc_row][vc_column][vc_btn title=”Online Registration” style=”3d” color=”danger” size=”lg” i_align=”right” i_type=”typicons” i_icon_typicons=”typcn typcn-arrow-forward” add_icon=”true” link=”url:https%3A%2F%2Fwww.revolutionise.com.au%2Flcsc%2Fevents%2F288017||target:%20_blank|”][vc_row_inner][vc_column_inner][vc_btn title=”Notice of Race” style=”3d” color=”sky” size=”lg” i_align=”right” i_type=”typicons” i_icon_typicons=”typcn typcn-arrow-down-thick” add_icon=”true” link=”url:https%3A%2F%2Flcsc.org.au%2Fwp-content%2Fuploads%2F2024%2F09%2FClub-racing-NOR-2024-25-Final-with-amendment.pdf||target:%20_blank|”][/vc_column_inner][/vc_row_inner][vc_row_inner][vc_column_inner][vc_btn title=”Sailing Instructions” style=”3d” color=”warning” size=”lg” i_align=”right” i_type=”typicons” i_icon_typicons=”typcn typcn-arrow-down-thick” add_icon=”true” link=”url:https%3A%2F%2Flcsc.org.au%2Fwp-content%2Fuploads%2F2024%2F09%2FClub-SIs-2024-vers-2.pdf||target:%20_blank|”][/vc_column_inner][/vc_row_inner][/vc_column][/vc_row]
URL:https://lcsc.org.au/event/club-racing-autumn-series-and-learn-to-sail-21/
ATTACH;FMTTYPE=image/jpeg:https://lcsc.org.au/wp-content/uploads/2022/09/IMG_8386.jpg
END:VEVENT
END:VCALENDAR