BEGIN:VCALENDAR
VERSION:2.0
PRODID:-//Lake Cootharaba Sailing Club - ECPv5.16.1//NONSGML v1.0//EN
CALSCALE:GREGORIAN
METHOD:PUBLISH
X-WR-CALNAME:Lake Cootharaba Sailing Club
X-ORIGINAL-URL:https://lcsc.org.au
X-WR-CALDESC:Events for Lake Cootharaba Sailing Club
BEGIN:VTIMEZONE
TZID:Australia/Melbourne
BEGIN:STANDARD
TZOFFSETFROM:+1100
TZOFFSETTO:+1000
TZNAME:AEST
DTSTART:20260404T160000
END:STANDARD
BEGIN:DAYLIGHT
TZOFFSETFROM:+1000
TZOFFSETTO:+1100
TZNAME:AEDT
DTSTART:20261003T160000
END:DAYLIGHT
END:VTIMEZONE
BEGIN:VEVENT
DTSTART;VALUE=DATE:20260214
DTEND;VALUE=DATE:20260426
DTSTAMP:20260420T000527
CREATED:20260202T211515Z
LAST-MODIFIED:20260202T211515Z
UID:14143-1771027200-1777161599@lcsc.org.au
SUMMARY:Junior Development Program - Autumn Term
DESCRIPTION:[vc_row][vc_column][vc_column_text]This program has been designed around the stated needs of a group of talented youngsters who attended an initial test event on Lake Cootharaba on 9 November 2025.  The outcome of the initial term of coaching was very pleasing with every member of the group attending the Open Skiff Nationals at Manly NSW and performing well above their original expectations. \nGiven the status of Lake Cootharaba SC as one of the few clubs on the Sunshine Coast with the location and resources to be able to offer such a program\, it is intended that the program will develop into a permanent feature of our club’s efforts to broaden the reach of sailing in our community and particularly to attract and develop young people in to our sport. \nRegistration is only available online and will remain open until 5:00 pm on 24/4/2026.  \nAll  participants must be a member of LCSC. \nIn order to maximise the benefit to participants\, a maximum of 12 registrations has been set. \nClick below for more information and to register.[/vc_column_text][vc_btn title=”Register” style=”3d” color=”success” align=”center” i_align=”right” i_type=”typicons” i_icon_typicons=”typcn typcn-arrow-forward” add_icon=”true” link=”url:https%3A%2F%2Fwww.revolutionise.com.au%2Flcsc%2Fevents%2F339324||target:%20_blank|”][/vc_column][/vc_row]
URL:https://lcsc.org.au/event/junior-development-program-autumn-term/
END:VEVENT
BEGIN:VEVENT
DTSTART;VALUE=DATE:20260411
DTEND;VALUE=DATE:20260426
DTSTAMP:20260420T000527
CREATED:20260228T223511Z
LAST-MODIFIED:20260308T205026Z
UID:14230-1775865600-1777161599@lcsc.org.au
SUMMARY:Discover Sailing Dinghy course: Start Sailing 1
DESCRIPTION:[vc_row][vc_column][vc_column_text]Discover Sailing Dinghy courses are tailored for both teenagers and adults\, and involve sailing on small boats (two crew vessels). Familes are encouraged to learn together\, including children aged from 8 years (accompanied by one or more parent/guardian). \nThe 12 hour course (held over three consecutive Saturdays) is subject to a fee of $200 per person.  Children (under the age of 18) attract a 50% discount if registered with one or more parent/guardian. \nClick below for more information and to register. \n[/vc_column_text][vc_btn title=”Register” style=”3d” color=”sky” align=”center” i_align=”right” i_type=”typicons” i_icon_typicons=”typcn typcn-arrow-forward” add_icon=”true” link=”url:https%3A%2F%2Fwww.revolutionise.com.au%2Flcsc%2Fevents%2F343261|||”][/vc_column][/vc_row]
URL:https://lcsc.org.au/event/discover-sailing-dinghy-course-start-sailing-1/
END:VEVENT
BEGIN:VEVENT
DTSTART;VALUE=DATE:20260502
DTEND;VALUE=DATE:20260504
DTSTAMP:20260420T000527
CREATED:20260318T043148Z
LAST-MODIFIED:20260326T030212Z
UID:14395-1777680000-1777852799@lcsc.org.au
SUMMARY:May Day Regatta inc Heron Qld Titles
DESCRIPTION:[vc_row][vc_column width=”1/2″][vc_column_text]Registration  is only available online and all payment is to be made online. Entries close at 5:00 pm on Thursday 31 April 2026. \nMake sure you book your accommodation early.  Options are listed here\, including that provided by out sponsor\, The Apollonian Hotel . Be sure to check them out! \n[/vc_column_text][/vc_column][vc_column width=”1/4″][vc_btn title=”Notice of Race” style=”3d” color=”sky” align=”center” i_align=”right” i_type=”typicons” i_icon_typicons=”typcn typcn-arrow-down-thick” button_block=”true” add_icon=”true” link=”url:https%3A%2F%2Flcsc.org.au%2Fwp-content%2Fuploads%2F2026%2F03%2FMay-Day-Regattas-NoR-2026-updated.pdf||target:%20_blank|”][vc_btn title=”Registration” style=”3d” color=”success” align=”center” i_align=”right” i_type=”typicons” i_icon_typicons=”typcn typcn-arrow-forward” button_block=”true” add_icon=”true” link=”url:https%3A%2F%2Fwww.revolutionise.com.au%2Flcsc%2Fevents%2F347940||target:%20_blank|”][/vc_column][vc_column width=”1/4″][vc_btn title=”Sailing Instructions – coming soon!” style=”3d” color=”sky” align=”center” button_block=”true” link=”||target:%20_blank|”][/vc_column][/vc_row]
URL:https://lcsc.org.au/event/may-day-regatta-inc-heron-qld-titles/
ATTACH;FMTTYPE=image/jpeg:https://lcsc.org.au/wp-content/uploads/2022/04/May-header-scaled.jpg
END:VEVENT
BEGIN:VEVENT
DTSTART;VALUE=DATE:20260509
DTEND;VALUE=DATE:20260524
DTSTAMP:20260420T000527
CREATED:20260308T230431Z
LAST-MODIFIED:20260308T230431Z
UID:14288-1778284800-1779580799@lcsc.org.au
SUMMARY:Discover Sailing Dinghy course: Start Sailing 1
DESCRIPTION:[vc_row][vc_column][vc_column_text]Discover Sailing Dinghy courses are tailored for both teenagers and adults\, and involve sailing on small boats (two crew vessels). Familes are encouraged to learn together\, including children aged from 8 years (accompanied by one or more parent/guardian). \nThe 12 hour course (held over three consecutive Saturdays) is subject to a fee of $200 per person.  Children (under the age of 18) attract a 50% discount if registered with one or more parent/guardian. \nClick below for more information and to register. \n[/vc_column_text][vc_btn title=”Register” style=”3d” color=”sky” align=”center” i_align=”right” i_type=”typicons” i_icon_typicons=”typcn typcn-arrow-forward” add_icon=”true” link=”url:https%3A%2F%2Fwww.revolutionise.com.au%2Flcsc%2Fevents%2F347082|||”][/vc_column][/vc_row]
URL:https://lcsc.org.au/event/discover-sailing-dinghy-course-start-sailing-1-3/
END:VEVENT
END:VCALENDAR